BEGIN:VCALENDAR
VERSION:2.0
PRODID:-//Ecole Artistique Thann Cernay - musique, danse, théâtre - ECPv6.15.11//NONSGML v1.0//EN
CALSCALE:GREGORIAN
METHOD:PUBLISH
X-WR-CALNAME:Ecole Artistique Thann Cernay - musique, danse, théâtre
X-ORIGINAL-URL:https://eatc.fr
X-WR-CALDESC:Évènements pour Ecole Artistique Thann Cernay - musique, danse, théâtre
REFRESH-INTERVAL;VALUE=DURATION:PT1H
X-Robots-Tag:noindex
X-PUBLISHED-TTL:PT1H
BEGIN:VTIMEZONE
TZID:Europe/Paris
BEGIN:DAYLIGHT
TZOFFSETFROM:+0100
TZOFFSETTO:+0200
TZNAME:CEST
DTSTART:20250330T010000
END:DAYLIGHT
BEGIN:STANDARD
TZOFFSETFROM:+0200
TZOFFSETTO:+0100
TZNAME:CET
DTSTART:20251026T010000
END:STANDARD
BEGIN:DAYLIGHT
TZOFFSETFROM:+0100
TZOFFSETTO:+0200
TZNAME:CEST
DTSTART:20260329T010000
END:DAYLIGHT
BEGIN:STANDARD
TZOFFSETFROM:+0200
TZOFFSETTO:+0100
TZNAME:CET
DTSTART:20261025T010000
END:STANDARD
BEGIN:DAYLIGHT
TZOFFSETFROM:+0100
TZOFFSETTO:+0200
TZNAME:CEST
DTSTART:20270328T010000
END:DAYLIGHT
BEGIN:STANDARD
TZOFFSETFROM:+0200
TZOFFSETTO:+0100
TZNAME:CET
DTSTART:20271031T010000
END:STANDARD
END:VTIMEZONE
BEGIN:VEVENT
DTSTART;TZID=Europe/Paris:20260321T140000
DTEND;TZID=Europe/Paris:20260322T163000
DTSTAMP:20260421T132852
CREATED:20260302T085823Z
LAST-MODIFIED:20260302T085823Z
UID:4503-1774101600-1774197000@eatc.fr
SUMMARY:Stage de Danses\, Chant et Percussions Guinéennes avec Sorisaya
DESCRIPTION:
URL:https://eatc.fr/evenement/stage-de-danses-chant-et-percussions-guineennes-avec-sorisaya/
ATTACH;FMTTYPE=image/jpeg:https://eatc.fr/wp-content/uploads/2026/03/1000042911.jpg
END:VEVENT
END:VCALENDAR